BEGIN:VCALENDAR
VERSION:2.0
PRODID:Charles County, MD Calendar Creator
METHOD:PUBLISH
BEGIN:VEVENT
DTSTAMP:20250813T141935
DTSTART:20250813T180000
DTEND:20250813T210000
SUMMARY:Historic Preservation Commission Meeting - Virtual (CANCELED)
DESCRIPTION:<p>This meeting has been canceled.</p><p>&nbsp;</p>
X-ALT-DESC;FMTTYPE=text/html:<p>This meeting has been canceled.</p><p>&nbsp;</p>
LOCATION:
CLASS:PUBLIC
END:VEVENT
END:VCALENDAR
